BEGIN:VCALENDAR
VERSION:2.0
PRODID:-//Sostre Cívic - ECPv6.15.20//NONSGML v1.0//EN
CALSCALE:GREGORIAN
METHOD:PUBLISH
X-WR-CALNAME:Sostre Cívic
X-ORIGINAL-URL:https://sostrecivic.coop
X-WR-CALDESC:Esdeveniments per Sostre Cívic
REFRESH-INTERVAL;VALUE=DURATION:PT1H
X-Robots-Tag:noindex
X-PUBLISHED-TTL:PT1H
BEGIN:VTIMEZONE
TZID:Europe/Madrid
BEGIN:DAYLIGHT
TZOFFSETFROM:+0100
TZOFFSETTO:+0200
TZNAME:CEST
DTSTART:20240331T010000
END:DAYLIGHT
BEGIN:STANDARD
TZOFFSETFROM:+0200
TZOFFSETTO:+0100
TZNAME:CET
DTSTART:20241027T010000
END:STANDARD
BEGIN:DAYLIGHT
TZOFFSETFROM:+0100
TZOFFSETTO:+0200
TZNAME:CEST
DTSTART:20250330T010000
END:DAYLIGHT
BEGIN:STANDARD
TZOFFSETFROM:+0200
TZOFFSETTO:+0100
TZNAME:CET
DTSTART:20251026T010000
END:STANDARD
BEGIN:DAYLIGHT
TZOFFSETFROM:+0100
TZOFFSETTO:+0200
TZNAME:CEST
DTSTART:20260329T010000
END:DAYLIGHT
BEGIN:STANDARD
TZOFFSETFROM:+0200
TZOFFSETTO:+0100
TZNAME:CET
DTSTART:20261025T010000
END:STANDARD
END:VTIMEZONE
BEGIN:VEVENT
DTSTART;TZID=Europe/Madrid:20250125T103000
DTEND;TZID=Europe/Madrid:20250125T130000
DTSTAMP:20260423T055310
CREATED:20250122T112249Z
LAST-MODIFIED:20250122T112303Z
UID:19569-1737801000-1737810000@sostrecivic.coop
SUMMARY:Acte d'inici d'obres de La Bastida - Pati del Gall
DESCRIPTION:Acompanya’ns a celebrar que el projecte d’habitatge cooperatiu en cessió d’ús de Vilafranca comença a fer-se realitat! \nOn? A Vilafranca del Penedès\nQuan? Dissabte\, 25 de gener \nA les 10.30 h farem un cercavila que començarà a la plaça Milà i Fontanals i acabarà al solar. Ens hi acompanyarà la Colla Infantil dels Diables de Sant Julià\, i a les 11 h\, un cop al solar\, començarem la festa d’inici d’obres! \n 
URL:https://sostrecivic.coop/agenda/acte-inici-obres-vilafranca/
CATEGORIES:Actes
ATTACH;FMTTYPE=image/png:https://sostrecivic.coop/wp-content/uploads/2025/01/PrimeraPedra_Post.png
END:VEVENT
END:VCALENDAR