BEGIN:VCALENDAR
VERSION:2.0
PRODID:-//Sostre Cívic - ECPv6.15.20//NONSGML v1.0//EN
CALSCALE:GREGORIAN
METHOD:PUBLISH
X-ORIGINAL-URL:https://sostrecivic.coop
X-WR-CALDESC:Esdeveniments per Sostre Cívic
REFRESH-INTERVAL;VALUE=DURATION:PT1H
X-Robots-Tag:noindex
X-PUBLISHED-TTL:PT1H
BEGIN:VTIMEZONE
TZID:Europe/Madrid
BEGIN:DAYLIGHT
TZOFFSETFROM:+0100
TZOFFSETTO:+0200
TZNAME:CEST
DTSTART:20240331T010000
END:DAYLIGHT
BEGIN:STANDARD
TZOFFSETFROM:+0200
TZOFFSETTO:+0100
TZNAME:CET
DTSTART:20241027T010000
END:STANDARD
BEGIN:DAYLIGHT
TZOFFSETFROM:+0100
TZOFFSETTO:+0200
TZNAME:CEST
DTSTART:20250330T010000
END:DAYLIGHT
BEGIN:STANDARD
TZOFFSETFROM:+0200
TZOFFSETTO:+0100
TZNAME:CET
DTSTART:20251026T010000
END:STANDARD
BEGIN:DAYLIGHT
TZOFFSETFROM:+0100
TZOFFSETTO:+0200
TZNAME:CEST
DTSTART:20260329T010000
END:DAYLIGHT
BEGIN:STANDARD
TZOFFSETFROM:+0200
TZOFFSETTO:+0100
TZNAME:CET
DTSTART:20261025T010000
END:STANDARD
END:VTIMEZONE
BEGIN:VEVENT
DTSTART;TZID=Europe/Madrid:20250327T183000
DTEND;TZID=Europe/Madrid:20250327T203000
DTSTAMP:20260423T022031
CREATED:20250320T120222Z
LAST-MODIFIED:20250324T122819Z
UID:20058-1743100200-1743107400@sostrecivic.coop
SUMMARY:Taula rodona: La situació de l’habitatge social a Catalunya
DESCRIPTION:L’habitatge és més que un sostre. El proper dijous 27 de març a les 18.30 h et convidem a una taula rodona que reflexionarà sobre els reptes i oportunitats de l’habitatge social a Catalunya i el dret a l’habitatge. \nHi participaran veus referents: \n\nJaime Palomera\, director de l’Àrea d’Habitatge i Ciutat de l’Institut de Recerca Urbana de Barcelona.\nJaume Fornt i Paradell\, subdirector general de promoció d’Habitatge i Sòl Residencial Associat de l’Agència de l’Habitatge de Catalunya. \nLourdes Borrell\, directora d’Estratègia d’Habitat3\n\nI moderarà la conversa Irene Escorihuela\, directora de l’Observatori DESCA. \nL’acte\, organitzat per Sostre Cívic\, en col·laboració amb la UB s’emmarca en el Curs d’aprofundiment sobre Habitatge Cooperatiu en Cessió d’Ús\, i tindrà lloc a l’Auditori del Bloc 4 (Constitució\, 19\, Barcelona). \n\nQuan?\nDijous\, 27 de març\, a les 18.30 h \nA on?\nAuditori Bloc 4\nc. Constitució\, 19\, Barcelona. \n  \n\nINSCRIU-TE A L’ACTIVITAT OMPLINT EL SEGÜENT FORMULARI\n \n\n\n\n\n\n\n\n﻿﻿﻿﻿﻿﻿﻿﻿﻿﻿﻿﻿﻿﻿﻿﻿﻿﻿﻿
URL:https://sostrecivic.coop/agenda/taula-rodona-habitatge-social-catalunya/
LOCATION:Bloc4BCN\, Carrer Constitució 19-25\, Barcelona\, 08014
CATEGORIES:Actes
ATTACH;FMTTYPE=image/jpeg:https://sostrecivic.coop/wp-content/uploads/2025/03/5965369219916875040-2.jpg
ORGANIZER;CN="Sostre C%C3%ADvic":MAILTO:info@sostrecivic.cat
END:VEVENT
END:VCALENDAR