BEGIN:VCALENDAR
VERSION:2.0
PRODID:-//Sostre Cívic - ECPv6.15.20//NONSGML v1.0//EN
CALSCALE:GREGORIAN
METHOD:PUBLISH
X-WR-CALNAME:Sostre Cívic
X-ORIGINAL-URL:https://sostrecivic.coop
X-WR-CALDESC:Esdeveniments per Sostre Cívic
REFRESH-INTERVAL;VALUE=DURATION:PT1H
X-Robots-Tag:noindex
X-PUBLISHED-TTL:PT1H
BEGIN:VTIMEZONE
TZID:Europe/Madrid
BEGIN:DAYLIGHT
TZOFFSETFROM:+0100
TZOFFSETTO:+0200
TZNAME:CEST
DTSTART:20240331T010000
END:DAYLIGHT
BEGIN:STANDARD
TZOFFSETFROM:+0200
TZOFFSETTO:+0100
TZNAME:CET
DTSTART:20241027T010000
END:STANDARD
BEGIN:DAYLIGHT
TZOFFSETFROM:+0100
TZOFFSETTO:+0200
TZNAME:CEST
DTSTART:20250330T010000
END:DAYLIGHT
BEGIN:STANDARD
TZOFFSETFROM:+0200
TZOFFSETTO:+0100
TZNAME:CET
DTSTART:20251026T010000
END:STANDARD
BEGIN:DAYLIGHT
TZOFFSETFROM:+0100
TZOFFSETTO:+0200
TZNAME:CEST
DTSTART:20260329T010000
END:DAYLIGHT
BEGIN:STANDARD
TZOFFSETFROM:+0200
TZOFFSETTO:+0100
TZNAME:CET
DTSTART:20261025T010000
END:STANDARD
END:VTIMEZONE
BEGIN:VEVENT
DTSTART;TZID=Europe/Madrid:20250529T183000
DTEND;TZID=Europe/Madrid:20250529T203000
DTSTAMP:20260422T223635
CREATED:20250523T084859Z
LAST-MODIFIED:20250523T111726Z
UID:20394-1748543400-1748550600@sostrecivic.coop
SUMMARY:Taula rodona: Situació internacional de l’habitatge cooperatiu en cessió d’ús.
DESCRIPTION:L’habitatge no és només un lloc on viure\, sinó una manera de viure. El dijous 29 de maig a les 18:30 h et convidem a l’Auditori de la Lleialtat Santsenca\, on tindrà lloc una taula rodona sobre la situació internacional de l’habitatge cooperatiu en cessió d’ús. Una oportunitat per escoltar\, aprendre i inspirar-nos a partir de les experiències de primera mà de l’Uruguai\, Dinamarca i Brussel·les. \nHi participaran veus expertes i referents dels respectius territoris: \n\nIsabel Zerboni\, vicepresidenta de la Federación Uruguaya de Cooperativas de Vivienda por Ayuda Mutua (FUCVAM)\nIsaac Abella\, sotsdirector de Andelsboligforeningernes Fællesrepræsentation\, federació de cooperatives d’habitatge de Dinamarca\nJoaquín de Santos\, representant de Community Land Trust Bruxelles-Brussel\n\nEl diàleg estarà moderat per Lorenzo Vidal Folc\, investigador especialitzat en el model d’habitatge cooperatiu en cessió d’ús\, i se celebrarà en el marc del Curs d’aprofundiment sobre Habitatge Cooperatiu en Cessió d’Ús\, organitzat per Sostre Cívic amb la col·laboració de la Universitat de Barcelona. \nActivitat organitzada juntament amb Coòpolis. \n\nQuan?\nDijous\, 29 de maig\, a les 18.30 h \nA on?\nAuditori de la Lleialtat Santsenca\nCarrer d’Olzinelles\, 31. Barcelona. \n  \n\nINSCRIU-TE A L’ACTIVITAT OMPLINT EL FORMULARI EN AQUEST ENLLAÇ
URL:https://sostrecivic.coop/agenda/taula-rodona-internacional-habitatge-cooperatiu/
LOCATION:Lleialtat Santsenca\, carrer Olzinelles\, 31\, Barcelona\, 08014
CATEGORIES:Actes
ATTACH;FMTTYPE=image/jpeg:https://sostrecivic.coop/wp-content/uploads/2025/05/taularodona-internacional-UB.jpg
ORGANIZER;CN="Sostre C%C3%ADvic":MAILTO:info@sostrecivic.cat
END:VEVENT
END:VCALENDAR