BEGIN:VCALENDAR
VERSION:2.0
PRODID:-//Sostre Cívic - ECPv6.15.20//NONSGML v1.0//EN
CALSCALE:GREGORIAN
METHOD:PUBLISH
X-ORIGINAL-URL:https://sostrecivic.coop
X-WR-CALDESC:Esdeveniments per Sostre Cívic
REFRESH-INTERVAL;VALUE=DURATION:PT1H
X-Robots-Tag:noindex
X-PUBLISHED-TTL:PT1H
BEGIN:VTIMEZONE
TZID:Europe/Madrid
BEGIN:DAYLIGHT
TZOFFSETFROM:+0100
TZOFFSETTO:+0200
TZNAME:CEST
DTSTART:20240331T010000
END:DAYLIGHT
BEGIN:STANDARD
TZOFFSETFROM:+0200
TZOFFSETTO:+0100
TZNAME:CET
DTSTART:20241027T010000
END:STANDARD
BEGIN:DAYLIGHT
TZOFFSETFROM:+0100
TZOFFSETTO:+0200
TZNAME:CEST
DTSTART:20250330T010000
END:DAYLIGHT
BEGIN:STANDARD
TZOFFSETFROM:+0200
TZOFFSETTO:+0100
TZNAME:CET
DTSTART:20251026T010000
END:STANDARD
BEGIN:DAYLIGHT
TZOFFSETFROM:+0100
TZOFFSETTO:+0200
TZNAME:CEST
DTSTART:20260329T010000
END:DAYLIGHT
BEGIN:STANDARD
TZOFFSETFROM:+0200
TZOFFSETTO:+0100
TZNAME:CET
DTSTART:20261025T010000
END:STANDARD
END:VTIMEZONE
BEGIN:VEVENT
DTSTART;TZID=Europe/Madrid:20250212T163000
DTEND;TZID=Europe/Madrid:20250212T180000
DTSTAMP:20260423T064949
CREATED:20250122T092522Z
LAST-MODIFIED:20260220T151104Z
UID:19567-1739377800-1739383200@sostrecivic.coop
SUMMARY:Sessió informativa virtual (febrer '25)
DESCRIPTION:T’interessa formar part d’un projecte d’habitatge cooperatiu\, però no saps per on començar? Vols saber què fem a Sostre Cívic i els projectes que tenim actius? T’agradaria conèixer més a fons el model d’habitatge en cessió d’ús? \nVine a aquesta xerrada informativa i oberta per a les persones interessades\, futurs nous socis i també per aquelles persones sòcies que vulguin aprofundir sobre el model de cessió d’ús i conèixer com s’organitza la nostra activitat. \nT’hi esperem 🙂 \n\nQuan?\nDimecres\, 12 de febrer\, a les 16.30 h \nA on?\nActivitat en línia. S’enviarà l’enllaç de la sessió a les persones inscrites. \n  \n\nINSCRIU-TE A L’ACTIVITAT OMPLINT EL SEGÜENT FORMULARI\n \n\n\n\n\n\n\n\n﻿﻿﻿﻿﻿﻿﻿﻿﻿﻿﻿﻿﻿﻿﻿﻿﻿
URL:https://sostrecivic.coop/agenda/sessio-informativa-virtual-febrer-25/
LOCATION:En línia
CATEGORIES:Xerrades
ATTACH;FMTTYPE=image/jpeg:https://sostrecivic.coop/wp-content/uploads/2024/12/Sessions-informatives-2.jpg
ORGANIZER;CN="Sostre C%C3%ADvic":MAILTO:info@sostrecivic.cat
END:VEVENT
BEGIN:VEVENT
DTSTART;TZID=Europe/Madrid:20250225T173000
DTEND;TZID=Europe/Madrid:20250225T190000
DTSTAMP:20260423T064949
CREATED:20250115T102413Z
LAST-MODIFIED:20250204T164320Z
UID:19526-1740504600-1740510000@sostrecivic.coop
SUMMARY:Sessió informativa a Girona (febrer '25)
DESCRIPTION:T’interessa formar part d’un projecte d’habitatge cooperatiu\, però no saps per on començar? Vols saber què fem a Sostre Cívic i els projectes que tenim actius? T’agradaria conèixer més a fons el model d’habitatge en cessió d’ús? \nVine a aquesta xerrada informativa i oberta per a les persones interessades\, futurs nous socis i també per aquelles persones sòcies que vulguin aprofundir sobre el model de cessió d’ús i conèixer com s’organitza la nostra activitat. Aquest mes la fem a Girona\, per poder arribar més fàcilment a les noves sòcies arreu del territori. \nT’hi esperem! \n\nQuan?\nEl dimarts\, 25 de febrer\, a les 17.30 h. \nA on?\nA la Casa de Cultura de Girona (Pl. Hospital\, 6\, Girona) \n  \n\nINSCRIU-TE A L’ACTIVITAT OMPLINT EL SEGÜENT FORMULARI\n[Places limitades per raons d’aforament]\n  \n \n\n\n\n\n\n\n\n﻿﻿﻿﻿﻿﻿﻿﻿﻿﻿﻿﻿﻿﻿﻿
URL:https://sostrecivic.coop/agenda/sessio-informativa-girona-febrer-25/
LOCATION:Casa de Cultura de Girona\, Plaça de l'Hospital\, 6\, Girona\, 17002
CATEGORIES:Xerrades
ATTACH;FMTTYPE=image/jpeg:https://sostrecivic.coop/wp-content/uploads/2025/01/250123_Sessio-info_Girona_v5.jpg
ORGANIZER;CN="Sostre C%C3%ADvic":MAILTO:info@sostrecivic.cat
END:VEVENT
END:VCALENDAR