BEGIN:VCALENDAR
VERSION:2.0
PRODID:-//Sostre Cívic - ECPv6.15.20//NONSGML v1.0//EN
CALSCALE:GREGORIAN
METHOD:PUBLISH
X-ORIGINAL-URL:https://sostrecivic.coop
X-WR-CALDESC:Esdeveniments per Sostre Cívic
REFRESH-INTERVAL;VALUE=DURATION:PT1H
X-Robots-Tag:noindex
X-PUBLISHED-TTL:PT1H
BEGIN:VTIMEZONE
TZID:Europe/Madrid
BEGIN:DAYLIGHT
TZOFFSETFROM:+0100
TZOFFSETTO:+0200
TZNAME:CEST
DTSTART:20240331T010000
END:DAYLIGHT
BEGIN:STANDARD
TZOFFSETFROM:+0200
TZOFFSETTO:+0100
TZNAME:CET
DTSTART:20241027T010000
END:STANDARD
BEGIN:DAYLIGHT
TZOFFSETFROM:+0100
TZOFFSETTO:+0200
TZNAME:CEST
DTSTART:20250330T010000
END:DAYLIGHT
BEGIN:STANDARD
TZOFFSETFROM:+0200
TZOFFSETTO:+0100
TZNAME:CET
DTSTART:20251026T010000
END:STANDARD
BEGIN:DAYLIGHT
TZOFFSETFROM:+0100
TZOFFSETTO:+0200
TZNAME:CEST
DTSTART:20260329T010000
END:DAYLIGHT
BEGIN:STANDARD
TZOFFSETFROM:+0200
TZOFFSETTO:+0100
TZNAME:CET
DTSTART:20261025T010000
END:STANDARD
END:VTIMEZONE
BEGIN:VEVENT
DTSTART;TZID=Europe/Madrid:20250401T170000
DTEND;TZID=Europe/Madrid:20250401T183000
DTSTAMP:20260423T031036
CREATED:20250304T102045Z
LAST-MODIFIED:20250304T115706Z
UID:19941-1743526800-1743532200@sostrecivic.coop
SUMMARY:Terra de Mar: Sessió informativa | Habitatge cooperatiu a Palamós
DESCRIPTION:Vols viure en un habitatge cooperatiu al Baix Empordà? Impulsem el primer projecte d’habitatge cooperatiu en cessió d’ús sobre sòl públic de terres gironines. Serà al municipi de Palamós i gràcies a la col·laboració público-cooperativa entre Sostre Cívic i l’Ajuntament del municipi. L’objecte del projecte és la construcció d’un edifici plurifamiliar en un solar de propietat pública situada a l’Avinguda Catalunya s/n per destinar-lo a habitatge en règim cooperatiu en cessió d’ús. \nEl projecte Terra de Mar serà de 34 habitatges\, qualificats de protecció oficial\, distribuïts en planta baixa i cinc plantes\, a més de 34 places d’aparcament soterrani. Ara hem obert les inscripcions per a les persones interessades en formar-hi part fins a l’11 d’abril. Si t’interessa\, vine a la sessió informativa i resoldrem tots els teus dubtes. \nT’hi esperem! \n\nQuan?\nEl dimarts\, 1 d’abril\, a les 17 h. \nA on?\nA les Galeries Carme\, Palamós \n  \n\nINSCRIU-TE A L’ACTIVITAT OMPLINT EL SEGÜENT FORMULARI\n \n\n\n\n\n\n\n\n﻿﻿﻿﻿﻿﻿﻿﻿﻿﻿﻿﻿﻿﻿﻿﻿﻿﻿﻿﻿﻿﻿﻿
URL:https://sostrecivic.coop/agenda/terra-de-mar-sessio-informativa-habitatge-cooperatiu-a-palamos/
LOCATION:Galeries Carme\, Carrer Dídac Garrell i Tauler\, Palamós\, Girona\, 17230\, Espanya
CATEGORIES:Xerrades
ATTACH;FMTTYPE=image/jpeg:https://sostrecivic.coop/wp-content/uploads/2022/01/PALAMOS-TERRA_DE_MAR-20250220-lo_res-6.jpg
ORGANIZER;CN="Sostre C%C3%ADvic":MAILTO:info@sostrecivic.cat
END:VEVENT
BEGIN:VEVENT
DTSTART;TZID=Europe/Madrid:20250402T180000
DTEND;TZID=Europe/Madrid:20250402T193000
DTSTAMP:20260423T031036
CREATED:20250304T123141Z
LAST-MODIFIED:20250317T115353Z
UID:19950-1743616800-1743622200@sostrecivic.coop
SUMMARY:El Cairó: Sessió informativa | Habitatge cooperatiu a Granollers
DESCRIPTION:Et presentem El Cairó! L’abril de 2023 vam resultar adjudicataris del concurs convocat per l’Ajuntament de Granollers per a construir i gestionar el primer projecte d’habitatge cooperatiu al municipi del Vallès. El concurs\, convocat al març per unanimitat del ple\, preveu l’edificació al solar municipal de 800 m² del carrer Rosselló 97\, al barri de Lledoner. \nActualment\, i fins al 21 d’abril\, tenim les inscripcions obertes per a totes les persones interessades en viure en aquest projecte d’habitatge cooperatiu. Si vols formar-hi part\, vine a aquesta sessió informativa oberta per a totes les persones interessades. T’explicarem tots els detalls del procés d’incorporacions\, i resoldrem els teus dubtes sobre el projecte i el funcionament de Sostre Cívic. \nT’hi esperem! \n\nQuan?\nEl dimecres\, 2 d’abril\, a les 18 h. \nA on?\n Sala Polivalent del Centre Cívic Nord\nCarrer Lledoner\, 6\, 08401 Granollers\n  \n\nINSCRIU-TE A L’ACTIVITAT OMPLINT EL SEGÜENT FORMULARI\n \n\n\n\n\n\n\n\n﻿﻿﻿﻿﻿﻿﻿﻿﻿﻿﻿﻿﻿﻿﻿﻿﻿﻿﻿﻿﻿﻿
URL:https://sostrecivic.coop/agenda/020425-el-cairo-sessio-informativa/
LOCATION:Centre Cívic Nord\, Carrer Lledoner\, 6.\, Granollers\, 08401
CATEGORIES:Xerrades
ATTACH;FMTTYPE=image/jpeg:https://sostrecivic.coop/wp-content/uploads/2023/04/ElCairo-1-1.jpg
ORGANIZER;CN="Sostre C%C3%ADvic":MAILTO:info@sostrecivic.cat
END:VEVENT
BEGIN:VEVENT
DTSTART;TZID=Europe/Madrid:20250403T173000
DTEND;TZID=Europe/Madrid:20250403T193000
DTSTAMP:20260423T031036
CREATED:20250313T132703Z
LAST-MODIFIED:20260220T142112Z
UID:20007-1743701400-1743708600@sostrecivic.coop
SUMMARY:Can70\, habitatge cooperatiu per a l'envelliment a Sarrià
DESCRIPTION:Can70 és un projecte d’habitatge cooperatiu per a persones grans\, que neix de la voluntat de viure un envelliment actiu i empoderat\, en un entorn col·laboratiu\, saludable i autogestionat. El projecte\, el primer sènior de Sostre Cívic a la ciutat de Barcelona\, vol fer realitat una alternativa real al model predominant\, basat en la institucionalització o en la dependència familiar\, i aposta per un futur construït des del suport mutu\, la solidaritat i la convivència. I ara té les inscripcions obertes per incorporar noves persones interessades al grup! \nEls objectius de Can70 són clars: transformar el model actual d’envelliment\, oferir una alternativa a la institucionalització\, promoure una vellesa activa i empoderada\, establir vincles humans i comunitaris sòlids\, evitar l’aïllament i la soledat\, i gestionar col·lectivament els serveis i les cures que puguin necessitar-se al llarg del temps. \nDurant la xerrada\, el grup impulsor presentarà el projecte i compartirà la seva experiència. Una oportunitat per conèixer una proposta inspiradora i fer el primer pas per sumar-s’hi! \n🗓 Dijous\, 3 d’abril de 2025🕡 17:30 h📍 Centre-Teatre de Sarrià (C/ Pare Miquel de Sarrià\, 8. Barcelona)🎟 Entrada lliure – No cal inscripció prèvia \n \nAmb el suport de l'Ajuntament de Barcelona
URL:https://sostrecivic.coop/agenda/can70-habitatge-cooperatiu-a-sarria/
LOCATION:Centre Teatre de Sarrià\, Pare Miquel de Sarrià\, 8\, Barcelona\, 08034
CATEGORIES:Xerrades
ATTACH;FMTTYPE=image/jpeg:https://sostrecivic.coop/wp-content/uploads/2022/02/imtage-totes-calendari-Can70-1.jpg
END:VEVENT
BEGIN:VEVENT
DTSTART;TZID=Europe/Madrid:20250405T113000
DTEND;TZID=Europe/Madrid:20250405T133000
DTSTAMP:20260423T031036
CREATED:20250327T120535Z
LAST-MODIFIED:20250327T120535Z
UID:20095-1743852600-1743859800@sostrecivic.coop
SUMMARY:Xerrada: L'habitatge cooperatiu com alternativa d'accés a un habitatge
DESCRIPTION:Xerrada sobre el model d’habitatge cooperatiu com a alternativa habitacional al Barcelonès Nord\, amb la participació de l’associació Caliu Habitatge Cooperatiu i les cooperatives d’habitatge La Constel·lació del Gorg i Sostre Cívic\, i el suport d’associacions veïnals de Badalona. \nAquesta activitat s’emmarca en les accions de sensibilització o dinamització per visibilitzar experiències i per sensibilitzar cap a l’Economia Social i Solidària (ESS). \n  \n📅 5 abril de 2025 \n🕐 11:30 – 13:30 H \n✍️ Inscripcions aquí
URL:https://sostrecivic.coop/agenda/xerrada-habitatge-cooperatiu-barcelones-nord/
LOCATION:Associació veïnal de Bufalà\, Carrer Maria Aurèlia Capmany\, Badalona\, 08915
CATEGORIES:Xerrades
ATTACH;FMTTYPE=image/png:https://sostrecivic.coop/wp-content/uploads/2025/03/CARTELL-A3_activitats_valors_blau.png
END:VEVENT
BEGIN:VEVENT
DTSTART;TZID=Europe/Madrid:20250407T163000
DTEND;TZID=Europe/Madrid:20250407T180000
DTSTAMP:20260423T031036
CREATED:20250313T112008Z
LAST-MODIFIED:20250313T112017Z
UID:19998-1744043400-1744048800@sostrecivic.coop
SUMMARY:Sessió informativa virtual (abril '25)
DESCRIPTION:T’interessa formar part d’un projecte d’habitatge cooperatiu\, però no saps per on començar? Vols saber què fem a Sostre Cívic i els projectes que tenim actius? T’agradaria conèixer més a fons el model d’habitatge en cessió d’ús? \nVine a aquesta xerrada informativa i oberta per a les persones interessades\, futurs nous socis i també per aquelles persones sòcies que vulguin aprofundir sobre el model de cessió d’ús i conèixer com s’organitza la nostra activitat. \nT’hi esperem 🙂 \n\nQuan?\nDilluns\, 7 d’abril a les 16.30 h \nA on?\nActivitat en línia. S’enviarà l’enllaç de la sessió a les persones inscrites. \n  \n\nINSCRIU-TE A L’ACTIVITAT OMPLINT EL SEGÜENT FORMULARI\n \n\n\n\n\n\n\n\n﻿﻿﻿﻿﻿﻿﻿﻿﻿﻿﻿﻿﻿﻿﻿﻿﻿﻿
URL:https://sostrecivic.coop/agenda/sessio-informativa-virtual-abril25/
LOCATION:En línia
CATEGORIES:Xerrades
ATTACH;FMTTYPE=image/png:https://sostrecivic.coop/wp-content/uploads/2025/02/Sessio_informativa_0325-1350-x-1080-px.png
ORGANIZER;CN="Sostre C%C3%ADvic":MAILTO:info@sostrecivic.cat
END:VEVENT
BEGIN:VEVENT
DTSTART;TZID=Europe/Madrid:20250409T150000
DTEND;TZID=Europe/Madrid:20250409T163000
DTSTAMP:20260423T031036
CREATED:20250303T213431Z
LAST-MODIFIED:20250304T123219Z
UID:19915-1744210800-1744216200@sostrecivic.coop
SUMMARY:El Cairó: Sessió informativa virtual | Habitatge cooperatiu a Granollers
DESCRIPTION:Et presentem El Cairó! L’abril de 2023 vam resultar adjudicataris del concurs convocat per l’Ajuntament de Granollers per a construir i gestionar el primer projecte d’habitatge cooperatiu al municipi del Vallès. El concurs\, convocat al març per unanimitat del ple\, preveu l’edificació al solar municipal de 800 m² del carrer Rosselló 97\, al barri de Lledoner. \nActualment\, i fins al 21 d’abril\, tenim les inscripcions obertes per a totes les persones interessades en viure en aquest projecte d’habitatge cooperatiu. Si vols formar-hi part\, vine a aquesta sessió informativa oberta per a totes les persones interessades. T’explicarem tots els detalls del procés d’incorporacions\, i resoldrem els teus dubtes sobre el projecte i el funcionament de Sostre Cívic. \nT’hi esperem! \n\nQuan?\nEl dimecres\, 9 d’abril\, a les 15 h. \nA on?\nActivitat en línia. S’enviarà l’enllaç de la sessió a les persones inscrites. \n  \n\nINSCRIU-TE A L’ACTIVITAT OMPLINT EL SEGÜENT FORMULARI\n \n\n\n\n\n\n\n\n﻿﻿﻿﻿﻿﻿﻿﻿﻿﻿﻿﻿﻿﻿﻿﻿﻿﻿﻿﻿﻿
URL:https://sostrecivic.coop/agenda/el-cairo-sessio-informativa-virtual-090425/
LOCATION:En línia
CATEGORIES:Xerrades
ATTACH;FMTTYPE=image/jpeg:https://sostrecivic.coop/wp-content/uploads/2023/04/ElCairo-1-1.jpg
ORGANIZER;CN="Sostre C%C3%ADvic":MAILTO:info@sostrecivic.cat
END:VEVENT
BEGIN:VEVENT
DTSTART;TZID=Europe/Madrid:20250422T170000
DTEND;TZID=Europe/Madrid:20250422T183000
DTSTAMP:20260423T031036
CREATED:20250313T112608Z
LAST-MODIFIED:20250313T112742Z
UID:20001-1745341200-1745346600@sostrecivic.coop
SUMMARY:Què és i com viure en un habitatge cooperatiu?
DESCRIPTION:T’has plantejat mai que hi ha alternatives reals al model d’habitatge tradicional? Vine a aquesta sessió inspiradora i descobreix l’habitatge cooperatiu en cessió d’ús —un model col·lectiu\, transformador i arrelat als valors de la comunitat i la sostenibilitat. \nParlarem de les dificultats d’accés a l’habitatge i de com les cooperatives estan obrint camí cap a una nova realitat. T’explicarem com funciona aquest model\, quins són els seus valors\, i coneixerem experiències reals d’arreu de Barcelona i Catalunya que ja estan fent-ho possible. \nAquesta sessió\, organitzada en el marc de Coòpolis\, està pensada especialment per a persones que ja coneixen la fórmula cooperativa i volen fer un pas endavant: impulsar el seu propi projecte d’habitatge cooperatiu. Si necessites orientació\, suport o simplement un punt de partida\, aquest espai és per a tu. \n📌 Inscripció prèvia necessària. Les places són limitades\, així que assegura’t la teva! \nINSCRIU-T’HI AQUÍ \nT’hi esperem!
URL:https://sostrecivic.coop/agenda/sessio-informativa-coopolis-abril25/
LOCATION:ECOS Grup Cooperatiu\, Casp\, 43\, baixos.\, Barcelona\, 08010
CATEGORIES:Xerrades
ATTACH;FMTTYPE=image/webp:https://sostrecivic.coop/wp-content/uploads/2025/03/22-abril-habitatge-cooperatiu-horitzontal.webp
END:VEVENT
BEGIN:VEVENT
DTSTART;TZID=Europe/Madrid:20250425T173000
DTEND;TZID=Europe/Madrid:20250425T193000
DTSTAMP:20260423T031036
CREATED:20250415T132311Z
LAST-MODIFIED:20250415T132327Z
UID:20190-1745602200-1745609400@sostrecivic.coop
SUMMARY:Xerrada: L'habitatge cooperatiu com alternativa d'accés a un habitatge
DESCRIPTION:Xerrada sobre el model d’habitatge cooperatiu com a alternativa habitacional al Barcelonès Nord\, amb la participació de l’associació Caliu Habitatge Cooperatiu i les cooperatives d’habitatge La Constel·lació del Gorg i Sostre Cívic\, i el suport d’associacions veïnals de Badalona. \nAquesta activitat s’emmarca en les accions de sensibilització o dinamització per visibilitzar experiències i per sensibilitzar cap a l’Economia Social i Solidària (ESS). \n  \n📅 25 abril de 2025 \n🕐 17:30 – 19:30 H \n✍️ Inscripcions aquí
URL:https://sostrecivic.coop/agenda/xerrada-habitatge-cooperatiu-ateneubarcelonesnord/
LOCATION:Associació veïnal de Lloreda\, Plaça de la Segona República\, 78-80\, Badalona\, 08917
CATEGORIES:Xerrades
ATTACH;FMTTYPE=image/png:https://sostrecivic.coop/wp-content/uploads/2025/04/2025_04_25_XERRADES_HABITATGE_COOP_xxss-copia17.png
END:VEVENT
END:VCALENDAR