BEGIN:VCALENDAR
VERSION:2.0
PRODID:-//Sostre Cívic - ECPv6.15.20//NONSGML v1.0//EN
CALSCALE:GREGORIAN
METHOD:PUBLISH
X-WR-CALNAME:Sostre Cívic
X-ORIGINAL-URL:https://sostrecivic.coop
X-WR-CALDESC:Esdeveniments per Sostre Cívic
REFRESH-INTERVAL;VALUE=DURATION:PT1H
X-Robots-Tag:noindex
X-PUBLISHED-TTL:PT1H
BEGIN:VTIMEZONE
TZID:Europe/Madrid
BEGIN:DAYLIGHT
TZOFFSETFROM:+0100
TZOFFSETTO:+0200
TZNAME:CEST
DTSTART:20250330T010000
END:DAYLIGHT
BEGIN:STANDARD
TZOFFSETFROM:+0200
TZOFFSETTO:+0100
TZNAME:CET
DTSTART:20251026T010000
END:STANDARD
BEGIN:DAYLIGHT
TZOFFSETFROM:+0100
TZOFFSETTO:+0200
TZNAME:CEST
DTSTART:20260329T010000
END:DAYLIGHT
BEGIN:STANDARD
TZOFFSETFROM:+0200
TZOFFSETTO:+0100
TZNAME:CET
DTSTART:20261025T010000
END:STANDARD
BEGIN:DAYLIGHT
TZOFFSETFROM:+0100
TZOFFSETTO:+0200
TZNAME:CEST
DTSTART:20270328T010000
END:DAYLIGHT
BEGIN:STANDARD
TZOFFSETFROM:+0200
TZOFFSETTO:+0100
TZNAME:CET
DTSTART:20271031T010000
END:STANDARD
END:VTIMEZONE
BEGIN:VEVENT
DTSTART;TZID=Europe/Madrid:20260312T173000
DTEND;TZID=Europe/Madrid:20260312T190000
DTSTAMP:20260422T060517
CREATED:20251106T122913Z
LAST-MODIFIED:20251106T122920Z
UID:21979-1773336600-1773342000@sostrecivic.coop
SUMMARY:Sessió informativa presencial
DESCRIPTION:T’interessa formar part d’un projecte d’habitatge cooperatiu\, però no saps per on començar? Vols saber què fem a Sostre Cívic i els projectes que tenim actius? T’agradaria conèixer més a fons el model d’habitatge en cessió d’ús? \nVine a aquesta xerrada informativa i oberta per a les persones interessades\, futurs nous socis i també per aquelles persones sòcies que vulguin aprofundir en el model de cessió d’ús i conèixer com s’organitza la nostra activitat. \nT’hi esperem 🙂 \n\nIdioma\nCatalà \nQuan?\nDijous\, 12 de març\, a les 17.30 h \nA on?\nAl Grup ECOS\, carrer Casp\, 43\, Barcelona \n  \n\nINSCRIU-TE A L’ACTIVITAT OMPLINT EL SEGÜENT FORMULARI\n \n\n\n\n\n\n\n\n﻿﻿﻿﻿﻿﻿﻿﻿﻿﻿﻿﻿﻿﻿﻿﻿﻿﻿﻿﻿﻿﻿
URL:https://sostrecivic.coop/agenda/sessio-presencial-marc26/
LOCATION:ECOS Grup Cooperatiu\, Casp\, 43\, baixos.\, Barcelona\, 08010
CATEGORIES:Xerrades
ATTACH;FMTTYPE=image/png:https://sostrecivic.coop/wp-content/uploads/2025/11/Sessions-informatives.png
ORGANIZER;CN="Sostre C%C3%ADvic":MAILTO:info@sostrecivic.cat
END:VEVENT
BEGIN:VEVENT
DTSTART;TZID=Europe/Madrid:20260319T170000
DTEND;TZID=Europe/Madrid:20260319T183000
DTSTAMP:20260422T060517
CREATED:20260204T100740Z
LAST-MODIFIED:20260204T100812Z
UID:22897-1773939600-1773945000@sostrecivic.coop
SUMMARY:Sessió informativa presencial a Girona
DESCRIPTION:T’interessa formar part d’un projecte d’habitatge cooperatiu\, però no saps per on començar? Vols saber què fem a Sostre Cívic i els projectes que tenim actius? T’agradaria conèixer més a fons el model d’habitatge en cessió d’ús? \nVine a aquesta xerrada informativa i oberta per a les persones interessades\, futurs nous socis i també per aquelles persones sòcies que vulguin aprofundir sobre el model de cessió d’ús i conèixer com s’organitza la nostra activitat. \nT’hi esperem 🙂 \n\nIdioma\nCatalà \nQuan?\nDijous\, 19 de març\, a les 17 h \nA on?\nCasa de Cultura de Girona\n(Pl. de l’Hospital\, 6. Girona) \n  \n\nINSCRIU-TE A L’ACTIVITAT OMPLINT EL SEGÜENT FORMULARI\n \n\n\n\n\n\n\n\n﻿﻿﻿﻿﻿﻿﻿﻿﻿﻿﻿﻿﻿﻿﻿﻿﻿﻿﻿﻿﻿﻿
URL:https://sostrecivic.coop/agenda/sessio-informativa-girona/
LOCATION:Casa de Cultura de Girona\, Plaça de l'Hospital\, 6\, Girona\, 17002
CATEGORIES:Xerrades
ATTACH;FMTTYPE=image/jpeg:https://sostrecivic.coop/wp-content/uploads/2026/02/Sessio-informativa_Girona.jpg
ORGANIZER;CN="Sostre C%C3%ADvic":MAILTO:info@sostrecivic.cat
END:VEVENT
BEGIN:VEVENT
DTSTART;TZID=Europe/Madrid:20260325T170000
DTEND;TZID=Europe/Madrid:20260325T183000
DTSTAMP:20260422T060517
CREATED:20251106T122539Z
LAST-MODIFIED:20260306T135129Z
UID:21975-1774458000-1774463400@sostrecivic.coop
SUMMARY:Sessió informativa virtual
DESCRIPTION:T’interessa formar part d’un projecte d’habitatge cooperatiu\, però no saps per on començar? Vols saber què fem a Sostre Cívic i els projectes que tenim actius? T’agradaria conèixer més a fons el model d’habitatge en cessió d’ús? \nVine a aquesta xerrada informativa i oberta per a les persones interessades\, futurs nous socis i també per aquelles persones sòcies que vulguin aprofundir en el model de cessió d’ús i conèixer com s’organitza la nostra activitat. \nT’hi esperem 🙂 \n\nIdioma\nCatalà \nQuan?\nDimecres\, 25 de març\, a les 17 h \nA on?\nActivitat en línia. S’enviarà l’enllaç de la sessió a les persones inscrites. \n  \n\nINSCRIU-TE A L’ACTIVITAT OMPLINT EL SEGÜENT FORMULARI\n \n\n\n\n\n\n\n\n﻿﻿﻿﻿﻿﻿﻿﻿﻿﻿﻿﻿﻿﻿﻿﻿﻿﻿﻿﻿﻿﻿﻿﻿﻿
URL:https://sostrecivic.coop/agenda/sessio-virtual-marc26/
LOCATION:En línia
CATEGORIES:Xerrades
ATTACH;FMTTYPE=image/png:https://sostrecivic.coop/wp-content/uploads/2025/11/Sessions-informatives.png
ORGANIZER;CN="Sostre C%C3%ADvic":MAILTO:info@sostrecivic.cat
END:VEVENT
BEGIN:VEVENT
DTSTART;TZID=Europe/Madrid:20260326T160000
DTEND;TZID=Europe/Madrid:20260326T173000
DTSTAMP:20260422T060517
CREATED:20260311T120125Z
LAST-MODIFIED:20260311T120125Z
UID:23295-1774540800-1774546200@sostrecivic.coop
SUMMARY:Pla Europeu d'Habitatge Assequible i Habitatge Col·laboratiu
DESCRIPTION:Seminari web sobre el Pla Europeu d’Habitatge Assequible i l’habitatge col·laboratiu\, organitzat per NETCO – la Xarxa de Ciutats per a l’Habitatge Col·laboratiu. \nPodreu escoltar i fer les vostres preguntes a Grzegorz Gajewski del Grup de Treball sobre Habitatge de la UE \, així com a representants de les ciutats d’Amsterdam (NL)\, Bolonya (IT) i Manresa (ES)\, i organitzacions de la societat civil\, de Sostre Cívic) i de la Xarxa Europea de Community Land Trust. \nDijous\, 26 de març de 2026 | Hora: 16:00–17:30 CET | Gratuït\nInterpretació simultània: anglès\, castellà i francès \nINSCRIPCIÓ: https://bit.ly/NETCO26 \nPer obtenir més informació sobre aquest tema\, podeu llegir l’article sobre l’ Aliança Europea per a l’Habitatge Col·laboratiu i el Pla Europeu per a l’Habitatge Assequible .
URL:https://sostrecivic.coop/agenda/pla-europeu-dhabitatge-assequible-i-habitatge-collaboratiu/
CATEGORIES:Xerrades
ATTACH;FMTTYPE=image/png:https://sostrecivic.coop/wp-content/uploads/2026/03/unnamed-13.png
END:VEVENT
END:VCALENDAR